BEGIN:VCALENDAR
VERSION:2.0
PRODID:-//ChurchDev//Events//EN
CALSCALE:GREGORIAN
METHOD:PUBLISH
BEGIN:VEVENT
UID:4573-20260419@www.balsamlutheranchurch.org
SUMMARY:Social Ministry Committee Meeting
DTSTART:20260419T143000Z
DTEND:20260419T150000Z
DESCRIPTION:https://www.balsamlutheranchurch.org/events/social-ministry-committee-meeting-2/
LOCATION:1115 Mains Crossing Ave.  Amery\, WI
URL:https://www.balsamlutheranchurch.org/events/social-ministry-committee-meeting-2/
DTSTAMP:20260419T194719Z
END:VEVENT
END:VCALENDAR
