BEGIN:VCALENDAR
VERSION:2.0
PRODID:-//ChurchDev//Events//EN
CALSCALE:GREGORIAN
METHOD:PUBLISH
BEGIN:VEVENT
UID:4572-20260412@www.balsamlutheranchurch.org
SUMMARY:W/ELCA Meeting
DTSTART:20260412T141500Z
DTEND:20260412T151500Z
DESCRIPTION:https://www.balsamlutheranchurch.org/events/w-elca-meeting-5/
LOCATION:1115 Mains Crossing Ave.  Amery\, WI
URL:https://www.balsamlutheranchurch.org/events/w-elca-meeting-5/
DTSTAMP:20260419T194716Z
END:VEVENT
END:VCALENDAR
