BEGIN:VCALENDAR
VERSION:2.0
PRODID:-//ChurchDev//Events//EN
CALSCALE:GREGORIAN
METHOD:PUBLISH
BEGIN:VEVENT
UID:4543-20260426@www.balsamlutheranchurch.org
SUMMARY:Worship
DTSTART:20260426T151500Z
DTEND:20260426T161500Z
DESCRIPTION:https://www.balsamlutheranchurch.org/events/worship-27/
LOCATION:1115 Mains Crossing Ave.  Amery\, WI
URL:https://www.balsamlutheranchurch.org/events/worship-27/
DTSTAMP:20260419T194822Z
END:VEVENT
END:VCALENDAR
