BEGIN:VCALENDAR
VERSION:2.0
PRODID:-//ChurchDev//Events//EN
CALSCALE:GREGORIAN
METHOD:PUBLISH
BEGIN:VEVENT
UID:4542-20260419@www.balsamlutheranchurch.org
SUMMARY:Worship w/Communion
DTSTART:20260419T151500Z
DTEND:20260419T161500Z
DESCRIPTION:https://www.balsamlutheranchurch.org/events/worship-w-communion-23/
LOCATION:1115 Mains Crossing Ave.  Amery\, WI
URL:https://www.balsamlutheranchurch.org/events/worship-w-communion-23/
DTSTAMP:20260419T194819Z
END:VEVENT
END:VCALENDAR
